BEGIN:VCALENDAR
VERSION:2.0
PRODID:-//GRÜNE Baselland - ECPv6.15.15//NONSGML v1.0//EN
CALSCALE:GREGORIAN
METHOD:PUBLISH
X-WR-CALNAME:GRÜNE Baselland
X-ORIGINAL-URL:https://gruene-bl.ch
X-WR-CALDESC:Veranstaltungen für GRÜNE Baselland
REFRESH-INTERVAL;VALUE=DURATION:PT1H
X-Robots-Tag:noindex
X-PUBLISHED-TTL:PT1H
BEGIN:VTIMEZONE
TZID:Europe/Zurich
BEGIN:DAYLIGHT
TZOFFSETFROM:+0100
TZOFFSETTO:+0200
TZNAME:CEST
DTSTART:20250330T010000
END:DAYLIGHT
BEGIN:STANDARD
TZOFFSETFROM:+0200
TZOFFSETTO:+0100
TZNAME:CET
DTSTART:20251026T010000
END:STANDARD
BEGIN:DAYLIGHT
TZOFFSETFROM:+0100
TZOFFSETTO:+0200
TZNAME:CEST
DTSTART:20260329T010000
END:DAYLIGHT
BEGIN:STANDARD
TZOFFSETFROM:+0200
TZOFFSETTO:+0100
TZNAME:CET
DTSTART:20261025T010000
END:STANDARD
BEGIN:DAYLIGHT
TZOFFSETFROM:+0100
TZOFFSETTO:+0200
TZNAME:CEST
DTSTART:20270328T010000
END:DAYLIGHT
BEGIN:STANDARD
TZOFFSETFROM:+0200
TZOFFSETTO:+0100
TZNAME:CET
DTSTART:20271031T010000
END:STANDARD
END:VTIMEZONE
BEGIN:VEVENT
DTSTART;TZID=Europe/Zurich:20260508T140000
DTEND;TZID=Europe/Zurich:20260508T150000
DTSTAMP:20260425T181619
CREATED:20260423T122845Z
LAST-MODIFIED:20260423T123810Z
UID:9829-1778248800-1778252400@gruene-bl.ch
SUMMARY:Medienkonferenz Philipp Schoch
DESCRIPTION:
URL:https://gruene-bl.ch/event/besuch-mit-philipp-pm-mangold-holzbau-copy-copy-copy-2
LOCATION:Hebdi Liestal\, Meyer-Wiggli Strasse 1\, Liestal\, BAsel-Landschaft\, 4410\, Switzerland
END:VEVENT
END:VCALENDAR