BEGIN:VCALENDAR
VERSION:2.0
PRODID:-//GRÜNE Baselland - ECPv6.15.15//NONSGML v1.0//EN
CALSCALE:GREGORIAN
METHOD:PUBLISH
X-WR-CALNAME:GRÜNE Baselland
X-ORIGINAL-URL:https://gruene-bl.ch
X-WR-CALDESC:Veranstaltungen für GRÜNE Baselland
REFRESH-INTERVAL;VALUE=DURATION:PT1H
X-Robots-Tag:noindex
X-PUBLISHED-TTL:PT1H
BEGIN:VTIMEZONE
TZID:Europe/Zurich
BEGIN:DAYLIGHT
TZOFFSETFROM:+0100
TZOFFSETTO:+0200
TZNAME:CEST
DTSTART:20220327T010000
END:DAYLIGHT
BEGIN:STANDARD
TZOFFSETFROM:+0200
TZOFFSETTO:+0100
TZNAME:CET
DTSTART:20221030T010000
END:STANDARD
BEGIN:DAYLIGHT
TZOFFSETFROM:+0100
TZOFFSETTO:+0200
TZNAME:CEST
DTSTART:20230326T010000
END:DAYLIGHT
BEGIN:STANDARD
TZOFFSETFROM:+0200
TZOFFSETTO:+0100
TZNAME:CET
DTSTART:20231029T010000
END:STANDARD
BEGIN:DAYLIGHT
TZOFFSETFROM:+0100
TZOFFSETTO:+0200
TZNAME:CEST
DTSTART:20240331T010000
END:DAYLIGHT
BEGIN:STANDARD
TZOFFSETFROM:+0200
TZOFFSETTO:+0100
TZNAME:CET
DTSTART:20241027T010000
END:STANDARD
END:VTIMEZONE
BEGIN:VEVENT
DTSTART;TZID=Europe/Zurich:20231022T150000
DTEND;TZID=Europe/Zurich:20231022T210000
DTSTAMP:20260420T170820
CREATED:20230929T063049Z
LAST-MODIFIED:20231005T134704Z
UID:7379-1697986800-1698008400@gruene-bl.ch
SUMMARY:Grünes Fest am Wahlsonntag
DESCRIPTION:
URL:https://gruene-bl.ch/event/gruenes-wahlfest-am-wahlsonntag
LOCATION:Laufwerk\, Mühlegasse 2\, Liestal\, BL\, 4410\, Schweiz
CATEGORIES:Abstimmungen / Wahlen
END:VEVENT
END:VCALENDAR